BEGIN:VCALENDAR
VERSION:2.0
PRODID:-//Meikel Neid - ECPv5.12.3//NONSGML v1.0//EN
CALSCALE:GREGORIAN
METHOD:PUBLISH
X-WR-CALNAME:Meikel Neid
X-ORIGINAL-URL:https://www.meikelneid.de
X-WR-CALDESC:Veranstaltungen für Meikel Neid
BEGIN:VTIMEZONE
TZID:Europe/Berlin
BEGIN:DAYLIGHT
TZOFFSETFROM:+0100
TZOFFSETTO:+0200
TZNAME:CEST
DTSTART:20230326T010000
END:DAYLIGHT
BEGIN:STANDARD
TZOFFSETFROM:+0200
TZOFFSETTO:+0100
TZNAME:CET
DTSTART:20231029T010000
END:STANDARD
END:VTIMEZONE
BEGIN:VEVENT
DTSTART;TZID=Europe/Berlin:20230224T200000
DTEND;TZID=Europe/Berlin:20230224T220000
DTSTAMP:20260420T105702
CREATED:20230119T152348Z
LAST-MODIFIED:20230119T152348Z
UID:2693-1677268800-1677276000@www.meikelneid.de
SUMMARY:Görlitzer Kantinenlesen
DESCRIPTION:Mit Isobel Markus\, Mike Altmann und Musik von Vanessa Karré. Moderation: Icke.
URL:https://www.meikelneid.de/termin/goerlitzer-kantinenlesen-9/
LOCATION:Basta Club\, Hotherstraße 25\, Görlitz\, 02826
CATEGORIES:Konzert,Lesung
END:VEVENT
END:VCALENDAR