BEGIN:VCALENDAR
VERSION:2.0
PRODID:-//Meikel Neid - ECPv5.12.3//NONSGML v1.0//EN
CALSCALE:GREGORIAN
METHOD:PUBLISH
X-WR-CALNAME:Meikel Neid
X-ORIGINAL-URL:https://www.meikelneid.de
X-WR-CALDESC:Veranstaltungen für Meikel Neid
BEGIN:VTIMEZONE
TZID:Europe/Berlin
BEGIN:DAYLIGHT
TZOFFSETFROM:+0100
TZOFFSETTO:+0200
TZNAME:CEST
DTSTART:20220327T010000
END:DAYLIGHT
BEGIN:STANDARD
TZOFFSETFROM:+0200
TZOFFSETTO:+0100
TZNAME:CET
DTSTART:20221030T010000
END:STANDARD
END:VTIMEZONE
BEGIN:VEVENT
DTSTART;TZID=Europe/Berlin:20220115T214500
DTEND;TZID=Europe/Berlin:20220115T223000
DTSTAMP:20260422T112615
CREATED:20220106T114810Z
LAST-MODIFIED:20220106T114810Z
UID:2566-1642283100-1642285800@www.meikelneid.de
SUMMARY:Lesenacht an der M8
DESCRIPTION:Ick lese im Rahmen der Lesenacht an der M8 im Café GRIPS in Marzahn. Tickets über: \nanmeldung@nulllesenacht-an-der-m8.de
URL:https://www.meikelneid.de/termin/lesenacht-an-der-m8/
LOCATION:Café GRIPS\, Alt-Marzahn 69A\, Berlin\, 12685\, Germany
CATEGORIES:Lesung
END:VEVENT
END:VCALENDAR