BEGIN:VCALENDAR
VERSION:2.0
PRODID:-//Meikel Neid - ECPv5.12.3//NONSGML v1.0//EN
CALSCALE:GREGORIAN
METHOD:PUBLISH
X-WR-CALNAME:Meikel Neid
X-ORIGINAL-URL:https://www.meikelneid.de
X-WR-CALDESC:Veranstaltungen für Meikel Neid
BEGIN:VTIMEZONE
TZID:Europe/Berlin
BEGIN:DAYLIGHT
TZOFFSETFROM:+0100
TZOFFSETTO:+0200
TZNAME:CEST
DTSTART:20180325T010000
END:DAYLIGHT
BEGIN:STANDARD
TZOFFSETFROM:+0200
TZOFFSETTO:+0100
TZNAME:CET
DTSTART:20181028T010000
END:STANDARD
END:VTIMEZONE
BEGIN:VEVENT
DTSTART;TZID=Europe/Berlin:20180213T213000
DTEND;TZID=Europe/Berlin:20180213T230000
DTSTAMP:20260421T103638
CREATED:20171128T150506Z
LAST-MODIFIED:20171128T150506Z
UID:1348-1518557400-1518562800@www.meikelneid.de
SUMMARY:LSD - Liebe statt Drogen
DESCRIPTION:Lesebühne mit Spider\, Uli Hannemann\, Ivo Lotion\, Tube und mir als Monatsgast
URL:https://www.meikelneid.de/termin/lsd-liebe-statt-drogen-3/
LOCATION:Schokoladen\, Ackerstraße 169\, Berlin\, 10115
END:VEVENT
END:VCALENDAR